BEGIN:VCALENDAR
VERSION:2.0
PRODID:Events Booking
BEGIN:VEVENT
UID:69e7528cd166f
SUMMARY:Natural Impressions (B)
DESCRIPTION:Saturday 2nd November 2024\, 10am - 4pm
 An alternative date f
 or this enjoyable day of printing directly with natural materials. No draw
 ing skills required!&nbsp\;
 
LOCATION:Vale of Clwyd\, Saint Asaph LL17\, UK
DTSTART:20241102T100000Z
DTEND:20241102T160000Z
DTSTAMP:20260421T113348Z
ORGANIZER;CN=Ruth Thomas:MAILTO:ruth@ruththomas.net
GEO:53.2575;-3.407222
X-APPLE-STRUCTURED-LOCATION;VALUE=URI;X-ADDRESS=Vale of Clwyd\, Saint Asaph
  LL17\, UK;X-APPLE-RADIUS=72;X-TITLE=Ruth's Studio:53.2575;-3.407222
END:VEVENT
END:VCALENDAR