BEGIN:VCALENDAR
VERSION:2.0
PRODID:Events Booking
BEGIN:VEVENT
UID:69eb46c956c65
SUMMARY:Natural Impressions (A)
DESCRIPTION:Thursday 31st October 2024\, 10am - 4pm&nbsp\;
 An enjoyable d
 ay of printing directly with natural materials. No drawing skills required
 !&nbsp\;
 
LOCATION:Vale of Clwyd\, Saint Asaph LL17\, UK
DTSTART:20241031T100000Z
DTEND:20241031T160000Z
DTSTAMP:20260424T113241Z
ORGANIZER;CN=Ruth Thomas:MAILTO:ruth@ruththomas.net
GEO:53.2575;-3.407222
X-APPLE-STRUCTURED-LOCATION;VALUE=URI;X-ADDRESS=Vale of Clwyd\, Saint Asaph
  LL17\, UK;X-APPLE-RADIUS=72;X-TITLE=Ruth's Studio:53.2575;-3.407222
END:VEVENT
END:VCALENDAR