BEGIN:VCALENDAR
VERSION:2.0
PRODID:Events Booking
BEGIN:VEVENT
UID:69e7fbf6af573
SUMMARY:Aspects of collagraph: timeless tones (B)
DESCRIPTION:Saturday 19th October 2024\, 10am - 4pm
 An alternative date f
 or the second of three workshops breaking down the medium of collagraph in
 to 3 areas\, in which we can explore different options for creating a rang
 e of tones in a collagraph\, from brightest white to deepest black.&nbsp\;
 
 
 &nbsp\;
LOCATION:Vale of Clwyd\, Saint Asaph LL17\, UK
DTSTART:20241019T100000Z
DTEND:20241019T160000Z
DTSTAMP:20260421T233638Z
ORGANIZER;CN=Ruth Thomas:MAILTO:ruth@ruththomas.net
GEO:53.2575;-3.407222
X-APPLE-STRUCTURED-LOCATION;VALUE=URI;X-ADDRESS=Vale of Clwyd\, Saint Asaph
  LL17\, UK;X-APPLE-RADIUS=72;X-TITLE=Ruth's Studio:53.2575;-3.407222
END:VEVENT
END:VCALENDAR